BEGIN:VCALENDAR
VERSION:2.0
PRODID:-//Logan Health - ECPv6.15.20//NONSGML v1.0//EN
CALSCALE:GREGORIAN
METHOD:PUBLISH
X-WR-CALNAME:Logan Health
X-ORIGINAL-URL:https://www.logan.org
X-WR-CALDESC:Events for Logan Health
REFRESH-INTERVAL;VALUE=DURATION:PT1H
X-Robots-Tag:noindex
X-PUBLISHED-TTL:PT1H
BEGIN:VTIMEZONE
TZID:UTC
BEGIN:STANDARD
TZOFFSETFROM:+0000
TZOFFSETTO:+0000
TZNAME:UTC
DTSTART:20250101T000000
END:STANDARD
END:VTIMEZONE
BEGIN:VEVENT
DTSTART;TZID=UTC:20260427T120000
DTEND;TZID=UTC:20260427T133000
DTSTAMP:20260425T161425
CREATED:20250321T210658Z
LAST-MODIFIED:20250926T162326Z
UID:10000440-1777291200-1777296600@www.logan.org
SUMMARY:First Year Friends - Whitefish
DESCRIPTION:First Year Friends is a weekly baby group hosted by the Logan Health – Whitefish Mom/Baby Clinic that offers information\, support and encouragement to all families with new babies! It provides a space for new parents to meet and for babies to have a play date. There is feeding assistance\, weight checks and nutritional guidance available from the lactation nurses who facilitate. \nThis group is intended for newborns through their first year of life. No registration is required. Drop in anytime! \nWhen: Mondays 12 – 1:30 p.m. \nWhere:\nProfessional Office Building\n711 13th Street East\nWhitefish\, MT 59937 \nContact us for questions by email or phone: \n\nLHWBirthCenterClasses@logan.org\nLogan Health – Whitefish Mom/Baby clinic at (406) 863 – 3471\nLogan Health – Kalispell Mom/Baby clinic at (406) 751 – 6667
URL:https://www.logan.org/classes/first-year-friends-whitefish/2026-04-27/
LOCATION:Professional Office Building\, 711 13th Street East\, Whitefish\, MT\, 59937\, United States
CATEGORIES:First Year Friends - Whitefish
END:VEVENT
BEGIN:VEVENT
DTSTART;TZID=UTC:20260427T190000
DTEND;TZID=UTC:20260427T210000
DTSTAMP:20260425T161425
CREATED:20251125T162726Z
LAST-MODIFIED:20251125T162726Z
UID:10000529-1777316400-1777323600@www.logan.org
SUMMARY:Welcome Baby! Now What?: April 27\, 2026
DESCRIPTION:Monday\, April 27\, 2026 • 7:00 pm — 9:00 pm\nLogan Health Medical Center • Paintbrush Conference Room\, Entrance A\, Registration\nThis class discusses the FOURTH stage of labor-recovery-postpartum and homecoming. It includes care of mother and baby care basics\, items needed\, home and environmental safety\, family planning\, adjusting to your new life\, baby blues and postpartum mood disorders. A pediatrician guest speaker will present a slide show with up-to-date education of newborn normals and be available to answer questions. \nPlease note that Logan Health is dedicated to the care of you and your baby; not just prenatally and during labor\, but ALSO after you have gone home. Our unique Mother Baby clinic provides excellent care and is available to the community 7 days a week. \nNo registration is required. For questions\, please email jcrockett@logan.org. \nView directions\, maps and parking.
URL:https://www.logan.org/classes/welcome-baby-now-what-april-27-2026/
CATEGORIES:Welcome Baby! Now What?
END:VEVENT
BEGIN:VEVENT
DTSTART;TZID=UTC:20260428T120000
DTEND;TZID=UTC:20260428T130000
DTSTAMP:20260425T161425
CREATED:20260317T153037Z
LAST-MODIFIED:20260317T153037Z
UID:10000553-1777377600-1777381200@www.logan.org
SUMMARY:Whitefish 12-Month Diabetes Prevention Program
DESCRIPTION:Are you overweight and have prediabetes\, high blood pressure or high cholesterol? Science-based education and lifestyle training can help you lose weight and reduce your risk of diabetes and heart disease. \nJoin us for a 12-month program focusing on eating healthy\, being active\, self-monitoring\, problem-solving\, managing stress\, changing your lifestyle\, staying motivated and being positive. \nWeekly classes start Tuesday\, April 7\, at 12 p.m. at the Professional Office Building in Whitefish. \nProfessional Office Building\n711 13th St\, Whitefish MT \nCall (406) 607-8247 to see if you qualify or to register. We will accept late registrants for the first month.
URL:https://www.logan.org/classes/whitefish-12-month-diabetes-prevention-program/2026-04-28/
LOCATION:Professional Office Building\, 711 13th Street East\, Whitefish\, MT\, 59937\, United States
CATEGORIES:12-Month Diabetes Prevention Program
END:VEVENT
BEGIN:VEVENT
DTSTART;TZID=UTC:20260428T173000
DTEND;TZID=UTC:20260428T183000
DTSTAMP:20260425T161425
CREATED:20260203T193039Z
LAST-MODIFIED:20260317T152449Z
UID:10000541-1777397400-1777401000@www.logan.org
SUMMARY:Kalispell 12-Month Diabetes Prevention Program
DESCRIPTION:Are you overweight and have prediabetes\, high blood pressure or high cholesterol? Science-based education and lifestyle training can help you lose weight and reduce your risk of diabetes and heart disease. \nJoin us for a 12-month program focusing on eating healthy\, being active\, self-monitoring\, problem-solving\, managing stress\, changing your lifestyle\, staying motivated and being positive. Participants will receive a 6-month membership to Logan Health Fitness Center. \nWeekly classes start Tuesday\, April 21\, at 5:30 p.m. at Logan Health Fitness Center. \nCall (406) 751-5454 option 5 > option 4 to see if you qualify or to register. Registration opens on March 30\, 2026\, and the program begins in April. We will accept late registrants for the first month.
URL:https://www.logan.org/classes/12-month-diabetes-prevention-program/2026-04-28/
LOCATION:Logan Health Medical Fitness Center\, 205 Sunnyview Lane\, Kalispell\, MT\, 59901\, United States
CATEGORIES:12-Month Diabetes Prevention Program
END:VEVENT
BEGIN:VEVENT
DTSTART;TZID=UTC:20260430T100000
DTEND;TZID=UTC:20260430T110000
DTSTAMP:20260425T161425
CREATED:20250321T205923Z
LAST-MODIFIED:20250926T162020Z
UID:10000365-1777543200-1777546800@www.logan.org
SUMMARY:First Year Friends - Kalispell
DESCRIPTION:First Year Friends is a weekly baby group hosted by the Logan Health – Medical Center Mom/Baby Clinic that offers information\, support and encouragement to all families with new babies! It provides a space for new parents to meet and for babies to have a play date. There is feeding assistance\, weight checks and nutritional guidance available from the lactation nurses who facilitate. \nThis group is intended for newborns through their first year of life. No registration is required. Drop in anytime! \nWhen: Thursdays 10 – 11 a.m. \nWhere:\nHeart & Hands Clinic\n770 West Reserve Dr.\nKalispell\, MT 59937 \nContact us for questions by email or phone: \n\nLHWBirthCenterClasses@logan.org\nLogan Health – Whitefish Mom/Baby clinic at (406) 863 – 3471\nLogan Health – Kalispell Mom/Baby clinic at (406) 751 – 6667
URL:https://www.logan.org/classes/first-year-friends-kalispell/2026-04-30/
LOCATION:Professional Office Building\, 711 13th Street East\, Whitefish\, MT\, 59937\, United States
CATEGORIES:First Year Friends - Kalispell
END:VEVENT
END:VCALENDAR