BEGIN:VCALENDAR
VERSION:2.0
PRODID:-//Logan Health - ECPv6.15.20//NONSGML v1.0//EN
CALSCALE:GREGORIAN
METHOD:PUBLISH
X-WR-CALNAME:Logan Health
X-ORIGINAL-URL:https://www.logan.org
X-WR-CALDESC:Events for Logan Health
REFRESH-INTERVAL;VALUE=DURATION:PT1H
X-Robots-Tag:noindex
X-PUBLISHED-TTL:PT1H
BEGIN:VTIMEZONE
TZID:UTC
BEGIN:STANDARD
TZOFFSETFROM:+0000
TZOFFSETTO:+0000
TZNAME:UTC
DTSTART:20250101T000000
END:STANDARD
END:VTIMEZONE
BEGIN:VEVENT
DTSTART;TZID=UTC:20261118T120000
DTEND;TZID=UTC:20261118T130000
DTSTAMP:20260424T113700
CREATED:20251124T205812Z
LAST-MODIFIED:20251124T205812Z
UID:10000494-1795003200-1795006800@www.logan.org
SUMMARY:Stroke Support Group: November 18\, 2026
DESCRIPTION:Wednesday\, November 18\, 2026 • 12 p.m. — 1 p.m.\nLogan Health Medical Center – Paintbrush Conference Room\nSupport groups for survivors and caregivers are key to recovering from stroke. Support groups connect you with others who have similar stories. It’s where you will find new friends\, support\, hope and encouragement as you embark on your post-stroke journey.
URL:https://www.logan.org/classes/stroke-support-group-november-18-2026/
CATEGORIES:Stroke Support Group
END:VEVENT
END:VCALENDAR